BEGIN:VCALENDAR
X-WR-TIMEZONE:Europe/Berlin
X-WR-CALNAME:rbb-Kalender
VERSION:2.0
METHOD:PUBLISH
CALSCALE:GREGORIAN
PRODID:rbb-CMS DAY
BEGIN:VEVENT
CLASS:PUBLIC
URL:http://www.rbb-online.de/content/rbb/rbb/zibb/archiv/20140129_1830/hackepeter_japanisch.html
DTEND:20140129T192500
DTSTART:20140129T183000
UID:/content/rbb/rbb/zibb/archiv/20140129_1830/hackepeter_japanisch
DTSTAMP:20140406T235057
DESCRIPTION:Hackepeter - das war die erstaunlichste Neuentdeckung für Hiroshi Tani aus Tokio. Der 24-Jährige Fleischtechnologe kennt Wurst, aber so frisch kommt sie in Japan nicht auf den Teller. Ein Jahr lang lernt er bei der Fleischerei Arnold in Kraupa in Südbrandenburg, wie man Aufschnitt, Wiener und über 100 verschiedene Wurstspezialitäten herstellt.\n\n\n
SUMMARY:Hackepeter auf Japanisch      
END:VEVENT
END:VCALENDAR
