BEGIN:VCALENDAR
X-WR-TIMEZONE:Europe/Berlin
X-WR-CALNAME:rbb-Kalender
VERSION:2.0
METHOD:PUBLISH
CALSCALE:GREGORIAN
PRODID:rbb-CMS DAY
BEGIN:VEVENT
CLASS:PUBLIC
URL:http://www.rbb-online.de/content/rbb/rbb/zibb/archiv/20140129_1830/schlossretter_fuerstenwalde.html
DTEND:20140129T192500
DTSTART:20140129T183000
UID:/content/rbb/rbb/zibb/archiv/20140129_1830/schlossretter_fuerstenwalde
DTSTAMP:20140406T234930
DESCRIPTION:Jens Schmidt musste seine Frau Victoria lange überreden, in das Fürstenwalder Bischofsschloss zu ziehen. Denn "Ruine" wäre für das heruntergekommene Gebäude in Fürstenwalde der treffendere Begriff gewesen. Inzwischen hat sich das Schloss in ein stattliches Mehrgenerationenhaus verwandelt. \n\n\n
SUMMARY:Die Schlossretter von Fürstenwalde
END:VEVENT
END:VCALENDAR
