BEGIN:VCALENDAR
X-WR-TIMEZONE:Europe/Berlin
X-WR-CALNAME:rbb-Kalender
VERSION:2.0
METHOD:PUBLISH
CALSCALE:GREGORIAN
PRODID:rbb-CMS DAY
BEGIN:VEVENT
CLASS:PUBLIC
URL:http://www.rbb-online.de/content/rbb/rbb/zibb/archiv/20140130_1830/karpfen.html
DTEND:20140130T192500
DTSTART:20140130T183000
UID:/content/rbb/rbb/zibb/archiv/20140130_1830/karpfen
DTSTAMP:20140406T234233
DESCRIPTION:Zwischen Herbstäpfeln und Frühjahrsspargel ist in Brandenburg genau die richtige Zeit für Karpfen! Die Karpfenwochen im Elbe-Elster-Kreis gehen langsam in den Endspurt, und wir kochen, dünsten, backen und bereiten Karpfen noch mal richtig lecker zu. \n\n\n
SUMMARY:Karpfenwochen in Finsterwalde
END:VEVENT
END:VCALENDAR
