BEGIN:VCALENDAR
X-WR-TIMEZONE:Europe/Berlin
X-WR-CALNAME:rbb-Kalender
VERSION:2.0
METHOD:PUBLISH
CALSCALE:GREGORIAN
PRODID:rbb-CMS DAY
BEGIN:VEVENT
CLASS:PUBLIC
URL:http://www.rbb-online.de/content/rbb/rbb/zibb/archiv/20140130_1830/kuh.html
DTEND:20140130T192500
DTSTART:20140130T183000
UID:/content/rbb/rbb/zibb/archiv/20140130_1830/kuh
DTSTAMP:20140406T234245
DESCRIPTION:"Kuhäugig" zu sein ist in arabischen Ländern keine Abwertung, sondern ein Kompliment. Dem kann Ursula Böhmer nur beipflichten. Seit vielen Jahren fotografiert sie Kühe und ist begeistert von den Tieren, weil sie so gelassen und unaufgeregt durch das Leben gehen.\n\n\n
SUMMARY:Die Kuhfotografin 
END:VEVENT
END:VCALENDAR
