BEGIN:VCALENDAR
X-WR-TIMEZONE:Europe/Berlin
X-WR-CALNAME:rbb-Kalender
VERSION:2.0
METHOD:PUBLISH
CALSCALE:GREGORIAN
PRODID:rbb-CMS DAY
BEGIN:VEVENT
CLASS:PUBLIC
URL:http://www.rbb-online.de/content/rbb/rbb/zibb/archiv/20140130_1830/post.html
DTEND:20140130T192500
DTSTART:20140130T183000
UID:/content/rbb/rbb/zibb/archiv/20140130_1830/post
DTSTAMP:20140406T234259
DESCRIPTION:Seit vergangener Woche wundern sich viele Haselhorster: Warum nur bleibt ihr Briefkasten leer? Keine einzige Karte, kein einziger Brief mehr. Über 200 Haushalte  sind betroffen. Auf etliche Nachfragen und nachdem Anwohner unter anderem bei Radio Berlin von ihrem Problem berichtet haben, versprach die Post Besserung. zibb war vor Ort und hat auf den Briefträger gewartet.\n\n \n\n \n
SUMMARY:Haselhorst kriegt keine Post
END:VEVENT
END:VCALENDAR
