BEGIN:VCALENDAR
X-WR-TIMEZONE:Europe/Berlin
X-WR-CALNAME:rbb-Kalender
VERSION:2.0
METHOD:PUBLISH
CALSCALE:GREGORIAN
PRODID:rbb-CMS DAY
BEGIN:VEVENT
CLASS:PUBLIC
URL:http://www.rbb-online.de/content/rbb/rbb/zibb/archiv/20140130_1830/richter.html
DTEND:20140130T192500
DTSTART:20140130T183000
UID:/content/rbb/rbb/zibb/archiv/20140130_1830/richter
DTSTAMP:20140406T234327
DESCRIPTION:Für ihre Hilfsbereitschaft hat sie sich reichlich Ärger eingehandelt: Melanie Knies beobachtet einen Unfall und bietet sich dem Verletzten freiwillig als Zeugin an. Monate später wird sie vom Amtsgericht Tiergarten geladen. Die selbstständige Stadtführerin sagt einen Auftrag ab, um vor Gericht zu erscheinen.\n\n\n
SUMMARY:Die Zeugin und das Amtsgericht
END:VEVENT
END:VCALENDAR
