BEGIN:VCALENDAR
X-WR-TIMEZONE:Europe/Berlin
X-WR-CALNAME:rbb-Kalender
VERSION:2.0
METHOD:PUBLISH
CALSCALE:GREGORIAN
PRODID:rbb-CMS DAY
BEGIN:VEVENT
CLASS:PUBLIC
URL:http://www.rbb-online.de/content/rbb/rbb/zibb/archiv/20140131_1830/dschungel.html
DTEND:20140131T192500
DTSTART:20140131T183000
UID:/content/rbb/rbb/zibb/archiv/20140131_1830/dschungel
DTSTAMP:20140406T220112
DESCRIPTION:In der Biosphäre Potsdam wurde es am Abend besonders spannend. Alle Kinder und ihre großen Begleiter konnten den Dschungel bei Nacht mit ihren Taschenlampen erkunden. zibb war dabei, als Geheimnisse gelüftet und Rätsel gelöst wurden.\n
SUMMARY:Nachts im Dschungel
END:VEVENT
END:VCALENDAR
