BEGIN:VCALENDAR
X-WR-TIMEZONE:Europe/Berlin
X-WR-CALNAME:rbb-Kalender
VERSION:2.0
METHOD:PUBLISH
CALSCALE:GREGORIAN
PRODID:rbb-CMS DAY
BEGIN:VEVENT
CLASS:PUBLIC
URL:http://www.rbb-online.de/content/rbb/rbb/zibb/archiv/20140131_1830/film.html
DTEND:20140131T192500
DTSTART:20140131T183000
UID:/content/rbb/rbb/zibb/archiv/20140131_1830/film
DTSTAMP:20140406T220137
DESCRIPTION:Nächste Woche dreht sich bei der Berlinale alles um den Film. Wir haben uns heute schon mal in die Archive begeben und uns angeschaut welche bemerkenswerten Filme in Berlin Premiere hatten oder hier produziert wurden.\n\n\n
SUMMARY:zibb zurück: Filmpremieren
END:VEVENT
END:VCALENDAR
