BEGIN:VCALENDAR
X-WR-TIMEZONE:Europe/Berlin
X-WR-CALNAME:rbb-Kalender
VERSION:2.0
METHOD:PUBLISH
CALSCALE:GREGORIAN
PRODID:rbb-CMS DAY
BEGIN:VEVENT
CLASS:PUBLIC
URL:http://www.rbb-online.de/content/rbb/rbb/zibb/archiv/20140203_1830/winterdreck.html
DTEND:20140203T192500
DTSTART:20140203T183000
UID:/content/rbb/rbb/zibb/archiv/20140203_1830/winterdreck
DTSTAMP:20140406T213015
DESCRIPTION:Der erste Wintereinbruch ist vorbei, es ist nicht mehr so bitterkalt, auch der letzte Schneematsch ist weggetaut. Und jetzt? Überall Dreck! Auf den Straßen Split, auf den Gehwegen Streusand - all das schleppt man gerne in die Wohnung. Und die Autos sehen aus …!\n
SUMMARY:Die schmutzige Seite des Winter
END:VEVENT
END:VCALENDAR
