BEGIN:VCALENDAR
X-WR-TIMEZONE:Europe/Berlin
X-WR-CALNAME:rbb-Kalender
VERSION:2.0
METHOD:PUBLISH
CALSCALE:GREGORIAN
PRODID:rbb-CMS DAY
BEGIN:VEVENT
CLASS:PUBLIC
URL:http://www.rbb-online.de/content/rbb/rbb/zibb/archiv/20140204_1830/ballet.html
DTEND:20140204T192500
DTSTART:20140204T183000
UID:/content/rbb/rbb/zibb/archiv/20140204_1830/ballet
DTSTAMP:20140406T233150
DESCRIPTION:Die Top-Tanztitel aus den Charts, heiße kubanische Salsa- und Mamborhythmen und dazu Tänzer mit geschmeidigen Körpern: Das ist Ballet Revolución. Die auf der ganzen Welt gefeierte Tanz-Show kommt für eine Woche zurück nach Berlin.\n\n\n
SUMMARY:"Ballet Revolucion" im Admiralspalast
END:VEVENT
END:VCALENDAR
