BEGIN:VCALENDAR
X-WR-TIMEZONE:Europe/Berlin
X-WR-CALNAME:rbb-Kalender
VERSION:2.0
METHOD:PUBLISH
CALSCALE:GREGORIAN
PRODID:rbb-CMS DAY
BEGIN:VEVENT
CLASS:PUBLIC
URL:http://www.rbb-online.de/content/rbb/rbb/zibb/archiv/20140204_1830/germknoedel.html
DTEND:20140204T192500
DTSTART:20140204T183000
UID:/content/rbb/rbb/zibb/archiv/20140204_1830/germknoedel
DTSTAMP:20140406T233247
DESCRIPTION:Uli Marschner war erfolgreiche Werbefachfrau - bis sie für leckere Germknödel ihr Leben umkrempelte. Die Idee: Mit herzhaft gefüllten Hefeklößen die Berliner Gastro-Szene aufmischen.\n\n\n
SUMMARY:Die Germknödel Frau
END:VEVENT
END:VCALENDAR
