BEGIN:VCALENDAR
X-WR-TIMEZONE:Europe/Berlin
X-WR-CALNAME:rbb-Kalender
VERSION:2.0
METHOD:PUBLISH
CALSCALE:GREGORIAN
PRODID:rbb-CMS DAY
BEGIN:VEVENT
CLASS:PUBLIC
URL:http://www.rbb-online.de/content/rbb/rbb/zibb/archiv/20140205_1830/berlinale.html
DTEND:20140205T192500
DTSTART:20140205T183000
UID:/content/rbb/rbb/zibb/archiv/20140205_1830/berlinale
DTSTAMP:20140407T003619
DESCRIPTION: Seit Tagen schon ist Berlin im Festival-Fieber - und morgen geht es endlich los! Überall wird noch fleißig vorbereitet und aufgebaut. Was ist neu, was ist anders? zibb war unterwegs und hat sich vor allem den neuen alten Zoopalast vorgenommen.\n\n\n
SUMMARY:Kurz vor der Berlinale
END:VEVENT
END:VCALENDAR
