BEGIN:VCALENDAR
X-WR-TIMEZONE:Europe/Berlin
X-WR-CALNAME:rbb-Kalender
VERSION:2.0
METHOD:PUBLISH
CALSCALE:GREGORIAN
PRODID:rbb-CMS DAY
BEGIN:VEVENT
CLASS:PUBLIC
URL:http://www.rbb-online.de/content/rbb/rbb/zibb/archiv/20140205_1830/kinotipps.html
DTEND:20140205T192500
DTSTART:20140205T183000
UID:/content/rbb/rbb/zibb/archiv/20140205_1830/kinotipps
DTSTAMP:20140407T003552
DESCRIPTION:+++ Dallas Buyers Club +++ Vaterfreuden +++ Meine Schwestern +++\n
SUMMARY:Kinotipps vom 05.02.2014
END:VEVENT
END:VCALENDAR
