BEGIN:VCALENDAR
X-WR-TIMEZONE:Europe/Berlin
X-WR-CALNAME:rbb-Kalender
VERSION:2.0
METHOD:PUBLISH
CALSCALE:GREGORIAN
PRODID:rbb-CMS DAY
BEGIN:VEVENT
CLASS:PUBLIC
URL:http://www.rbb-online.de/content/rbb/rbb/zibb/archiv/20140205_1830/wintergarten.html
DTEND:20140205T192500
DTSTART:20140205T183000
UID:/content/rbb/rbb/zibb/archiv/20140205_1830/wintergarten
DTSTAMP:20140407T003601
DESCRIPTION:Rhythm & Blues, Jazz und Funk geben dieser Show ihren unverwechselbaren Groove und treiben die Akrobaten zu immer neuen Bildern. Zu den größten Soulhits von Nina Simone, Stevie Wonder oder Lionel Richie wird spektakuläre Akrobatik geboten: zibb war live im Wintergarten.\n
SUMMARY:"All Night Long" im Wintergarten
END:VEVENT
END:VCALENDAR
