BEGIN:VCALENDAR
X-WR-TIMEZONE:Europe/Berlin
X-WR-CALNAME:rbb-Kalender
VERSION:2.0
METHOD:PUBLISH
CALSCALE:GREGORIAN
PRODID:rbb-CMS DAY
BEGIN:VEVENT
CLASS:PUBLIC
URL:http://www.rbb-online.de/content/rbb/rbb/zibb/archiv/20140206_1830/64_berlinale_beginnt.html
DTEND:20140206T192500
DTSTART:20140206T183000
UID:/content/rbb/rbb/zibb/archiv/20140206_1830/64_berlinale_beginnt
DTSTAMP:20140407T003719
DESCRIPTION:Mit der Tragikomödie "Grand Budapest Hotel" von US-Regisseur Wes Anderson beginnt am Donnerstag die 64. Ausgabe der Berlinale. Zur Weltpremiere des Films, der unter anderem im sächsischen Görlitz gedreht wurde, kommen Stars wie Bill Murray, Ralph Fiennes, Jeff Goldblum und Tilda Swinton.\n\n\n
SUMMARY:64. Berlinale beginnt
END:VEVENT
END:VCALENDAR
