BEGIN:VCALENDAR
X-WR-TIMEZONE:Europe/Berlin
X-WR-CALNAME:rbb-Kalender
VERSION:2.0
METHOD:PUBLISH
CALSCALE:GREGORIAN
PRODID:rbb-CMS DAY
BEGIN:VEVENT
CLASS:PUBLIC
URL:http://www.rbb-online.de/content/rbb/rbb/zibb/archiv/20140207_1830/ein-tag-fruehling.html
DTEND:20140207T192500
DTSTART:20140207T183000
UID:/content/rbb/rbb/zibb/archiv/20140207_1830/ein-tag-fruehling
DTSTAMP:20140406T215801
DESCRIPTION:Oh wie ist das schön! Bis zu 14 Grad warm, ja warm soll es an diesem Tag werden. Und das ist noch nicht alles.\n\n\n
SUMMARY:Ein Tag Frühling oder was?
END:VEVENT
END:VCALENDAR
