BEGIN:VCALENDAR
X-WR-TIMEZONE:Europe/Berlin
X-WR-CALNAME:rbb-Kalender
VERSION:2.0
METHOD:PUBLISH
CALSCALE:GREGORIAN
PRODID:rbb-CMS DAY
BEGIN:VEVENT
CLASS:PUBLIC
URL:http://www.rbb-online.de/content/rbb/rbb/zibb/archiv/20140207_1830/janna-f-ich-greif-mir-einen-star.html
DTEND:20140207T192500
DTSTART:20140207T183000
UID:/content/rbb/rbb/zibb/archiv/20140207_1830/janna-f-ich-greif-mir-einen-star
DTSTAMP:20140406T215718
DESCRIPTION:Am Flughafen kommen die Stars an - wär doch gelacht, wenn sich Janna F. nicht Clooney oder Damon für ein Interview schnappen könnte. \n\n\n
SUMMARY:Janna F. - Ich greif mir einen Star
END:VEVENT
END:VCALENDAR
