BEGIN:VCALENDAR
X-WR-TIMEZONE:Europe/Berlin
X-WR-CALNAME:rbb-Kalender
VERSION:2.0
METHOD:PUBLISH
CALSCALE:GREGORIAN
PRODID:rbb-CMS DAY
BEGIN:VEVENT
CLASS:PUBLIC
URL:http://www.rbb-online.de/content/rbb/rbb/zibb/archiv/20140210_1830/deutscher-schauspieler-preis.html
DTEND:20140210T192500
DTSTART:20140210T183000
UID:/content/rbb/rbb/zibb/archiv/20140210_1830/deutscher-schauspieler-preis
DTSTAMP:20140406T225904
DESCRIPTION:Am Theater des Westens. Der Deutsche Schauspielerpreis wird nun feierlich verliehen und da darf natürlch keiner fehlen.\n\n\n
SUMMARY:Deutscher Schauspielerpreis
END:VEVENT
END:VCALENDAR
