BEGIN:VCALENDAR
X-WR-TIMEZONE:Europe/Berlin
X-WR-CALNAME:rbb-Kalender
VERSION:2.0
METHOD:PUBLISH
CALSCALE:GREGORIAN
PRODID:rbb-CMS DAY
BEGIN:VEVENT
CLASS:PUBLIC
URL:http://www.rbb-online.de/content/rbb/rbb/zibb/archiv/20140210_1830/janna-f-auf-der-suche-nach-stars.html
DTEND:20140210T192500
DTSTART:20140210T183000
UID:/content/rbb/rbb/zibb/archiv/20140210_1830/janna-f-auf-der-suche-nach-stars
DTSTAMP:20140406T225913
DESCRIPTION:Starke neue Filme, selbst wenn sie nicht im Wettbewerb laufen gibts natürlich auch jede Menge auf der Berlinale.\n
SUMMARY:Janna F. auf der Suche nach den Stars
END:VEVENT
END:VCALENDAR
