BEGIN:VCALENDAR
X-WR-TIMEZONE:Europe/Berlin
X-WR-CALNAME:rbb-Kalender
VERSION:2.0
METHOD:PUBLISH
CALSCALE:GREGORIAN
PRODID:rbb-CMS DAY
BEGIN:VEVENT
CLASS:PUBLIC
URL:http://www.rbb-online.de/content/rbb/rbb/zibb/archiv/20140211_1830/das-war-der-deutsche-schauspielerpreis.html
DTEND:20140211T192500
DTSTART:20140211T183000
UID:/content/rbb/rbb/zibb/archiv/20140211_1830/das-war-der-deutsche-schauspielerpreis
DTSTAMP:20140407T004343
DESCRIPTION:Wir berichten von der Verleihung des Deutschen Schauspielerpreises.\n\nBeitrag von Christian Seewald\n\n\n
SUMMARY:Das war der Deutsche Schauspielerpreis
END:VEVENT
END:VCALENDAR
