BEGIN:VCALENDAR
X-WR-TIMEZONE:Europe/Berlin
X-WR-CALNAME:rbb-Kalender
VERSION:2.0
METHOD:PUBLISH
CALSCALE:GREGORIAN
PRODID:rbb-CMS DAY
BEGIN:VEVENT
CLASS:PUBLIC
URL:http://www.rbb-online.de/content/rbb/rbb/zibb/archiv/20140211_1830/generalprobe-in-der-staatlichen-ballettschule-berlin.html
DTEND:20140211T192500
DTSTART:20140211T183000
UID:/content/rbb/rbb/zibb/archiv/20140211_1830/generalprobe-in-der-staatlichen-ballettschule-berlin
DTSTAMP:20140407T004354
DESCRIPTION:Am Freitag ist die große Gala der Staatlichen Ballettschule Berlin und an diesem Dienstag findet die Generalprobe in der Schule statt.\n\n\n
SUMMARY:Generalprobe in der Staatlichen Ballettschule
END:VEVENT
END:VCALENDAR
