BEGIN:VCALENDAR
X-WR-TIMEZONE:Europe/Berlin
X-WR-CALNAME:rbb-Kalender
VERSION:2.0
METHOD:PUBLISH
CALSCALE:GREGORIAN
PRODID:rbb-CMS DAY
BEGIN:VEVENT
CLASS:PUBLIC
URL:http://www.rbb-online.de/content/rbb/rbb/zibb/archiv/20140211_1830/neues-ermittlerduo-beim-tatort.html
DTEND:20140211T192500
DTSTART:20140211T183000
UID:/content/rbb/rbb/zibb/archiv/20140211_1830/neues-ermittlerduo-beim-tatort
DTSTAMP:20140407T004303
DESCRIPTION:Jetzt ist es amtlich - die beiden neuen Tatort-Kommissare des rbb heißen Meret Becker und Mark Waschke. Ab 2015 werden sie das Ermittler-Team aus Berlin sein.\n\n\n\n\n
SUMMARY:Neues Ermittlerduo beim Tatort
END:VEVENT
END:VCALENDAR
