BEGIN:VCALENDAR
X-WR-TIMEZONE:Europe/Berlin
X-WR-CALNAME:rbb-Kalender
VERSION:2.0
METHOD:PUBLISH
CALSCALE:GREGORIAN
PRODID:rbb-CMS DAY
BEGIN:VEVENT
CLASS:PUBLIC
URL:http://www.rbb-online.de/content/rbb/rbb/zibb/archiv/20140211_1830/wolf-in-cottbus-unterwegs.html
DTEND:20140211T192500
DTSTART:20140211T183000
UID:/content/rbb/rbb/zibb/archiv/20140211_1830/wolf-in-cottbus-unterwegs
DTSTAMP:20140407T004251
DESCRIPTION:Am hellichten Tag wurde jetzt ein Wolf in einem Vorort von Cottbus gesehen. Eine Zampertruppe die gerade als sorbischer Fastnachtszug durch Merzdorf zog, sah das Tier am Samstagvormittag durchs Dorf streifen. \n\n\n
SUMMARY:Wolf in Cottbus unterwegs
END:VEVENT
END:VCALENDAR
