BEGIN:VCALENDAR
X-WR-TIMEZONE:Europe/Berlin
X-WR-CALNAME:rbb-Kalender
VERSION:2.0
METHOD:PUBLISH
CALSCALE:GREGORIAN
PRODID:rbb-CMS DAY
BEGIN:VEVENT
CLASS:PUBLIC
URL:http://www.rbb-online.de/content/rbb/rbb/zibb/archiv/20140212_1830/nandu-in-brandenburg.html
DTEND:20140212T192500
DTSTART:20140212T183000
UID:/content/rbb/rbb/zibb/archiv/20140212_1830/nandu-in-brandenburg
DTSTAMP:20140406T234027
DESCRIPTION:Der Nandu ist ein putzig anzusehender Großvogel, dem Strauß etwas ähnlich und in Südamerika beheimatet. \n\n\n
SUMMARY:Nandu in Brandenburg gesichtet...
END:VEVENT
END:VCALENDAR
