BEGIN:VCALENDAR
X-WR-TIMEZONE:Europe/Berlin
X-WR-CALNAME:rbb-Kalender
VERSION:2.0
METHOD:PUBLISH
CALSCALE:GREGORIAN
PRODID:rbb-CMS DAY
BEGIN:VEVENT
CLASS:PUBLIC
URL:http://www.rbb-online.de/content/rbb/rbb/zibb/archiv/20140213_1830/dillinge.html
DTEND:20140213T192500
DTSTART:20140213T183000
UID:/content/rbb/rbb/zibb/archiv/20140213_1830/dillinge
DTSTAMP:20140406T232851
DESCRIPTION:Die Chance einer werdenden Mutter eineiige Drillinge auf die Welt zu bringen liegt bei etwa 1 zu 10 Millionen – es ist also unwahrscheinlicher als ein Sechser im Lotto. Und doch wurden am 12. September 1964 im Krankenhaus Köpenick die drei Mietzelfeldbrüder geboren.\n\n\n
SUMMARY:Die Wunderdrillinge
END:VEVENT
END:VCALENDAR
