BEGIN:VCALENDAR
X-WR-TIMEZONE:Europe/Berlin
X-WR-CALNAME:rbb-Kalender
VERSION:2.0
METHOD:PUBLISH
CALSCALE:GREGORIAN
PRODID:rbb-CMS DAY
BEGIN:VEVENT
CLASS:PUBLIC
URL:http://www.rbb-online.de/content/rbb/rbb/zibb/archiv/20140213_1830/hotspots.html
DTEND:20140213T192500
DTSTART:20140213T183000
UID:/content/rbb/rbb/zibb/archiv/20140213_1830/hotspots
DTSTAMP:20140406T232759
DESCRIPTION:Es gibt auch Orte auf der Berlinale, die nicht ganz so im Rampenlicht erstrahlen und bis heute eher unbekannt sind. Am Donnerstag waren wir im Eiszeit Kino, das ist erstmal Berlinale Kiezkino ist. zibb stellt diesen Ort mit interessanter Geschichte vor und erklärt woher der Name kommt.\n
SUMMARY:Hot Spots der Berlinale
END:VEVENT
END:VCALENDAR
