BEGIN:VCALENDAR
X-WR-TIMEZONE:Europe/Berlin
X-WR-CALNAME:rbb-Kalender
VERSION:2.0
METHOD:PUBLISH
CALSCALE:GREGORIAN
PRODID:rbb-CMS DAY
BEGIN:VEVENT
CLASS:PUBLIC
URL:http://www.rbb-online.de/content/rbb/rbb/zibb/archiv/20140213_1830/wedding.html
DTEND:20140213T192500
DTSTART:20140213T183000
UID:/content/rbb/rbb/zibb/archiv/20140213_1830/wedding
DTSTAMP:20140406T232838
DESCRIPTION:Das Biotop Wedding und seine äußeren Einflüsse - darum geht es in der Theater-Sitcom "Gutes Wedding, schlechtes Wedding" (GWSW). Jetzt wird das Kult-Theater 10 Jahre.\n\n \n
SUMMARY:10 Jahre Theater-Sitcom 
END:VEVENT
END:VCALENDAR
