BEGIN:VCALENDAR
X-WR-TIMEZONE:Europe/Berlin
X-WR-CALNAME:rbb-Kalender
VERSION:2.0
METHOD:PUBLISH
CALSCALE:GREGORIAN
PRODID:rbb-CMS DAY
BEGIN:VEVENT
CLASS:PUBLIC
URL:http://www.rbb-online.de/content/rbb/rbb/zibb/archiv/20140217_1830/der-muencheberger-heimtiergarten.html
DTEND:20140217T192500
DTSTART:20140217T183000
UID:/content/rbb/rbb/zibb/archiv/20140217_1830/der-muencheberger-heimtiergarten
DTSTAMP:20140406T224948
DESCRIPTION:Wildschweine, Hirsche, Schnucken und was sonst noch so alles in unseren Breiten lebt, gibts im Müncheberger Heimattiergarten hautnah zu sehen.\n
SUMMARY:Der Müncheberger Heimtiergarten
END:VEVENT
END:VCALENDAR
