BEGIN:VCALENDAR
X-WR-TIMEZONE:Europe/Berlin
X-WR-CALNAME:rbb-Kalender
VERSION:2.0
METHOD:PUBLISH
CALSCALE:GREGORIAN
PRODID:rbb-CMS DAY
BEGIN:VEVENT
CLASS:PUBLIC
URL:http://www.rbb-online.de/content/rbb/rbb/zibb/archiv/20140218_18_30/das-beste-cafe.html
DTEND:20140218T192500
DTSTART:20140218T183000
UID:/content/rbb/rbb/zibb/archiv/20140218_18_30/das-beste-cafe
DTSTAMP:20140406T231757
DESCRIPTION:Das Gastromagazin "Der Feinschmecker" wählte deutschlandweit die besten Cafes und Konditoreien aus.\n\n\n
SUMMARY:Das beste Café
END:VEVENT
END:VCALENDAR
