BEGIN:VCALENDAR
X-WR-TIMEZONE:Europe/Berlin
X-WR-CALNAME:rbb-Kalender
VERSION:2.0
METHOD:PUBLISH
CALSCALE:GREGORIAN
PRODID:rbb-CMS DAY
BEGIN:VEVENT
CLASS:PUBLIC
URL:http://www.rbb-online.de/content/rbb/rbb/zibb/archiv/20140219_1830/rechtsberatung_in_marzahn.html
DTEND:20140219T192500
DTSTART:20140219T183000
UID:/content/rbb/rbb/zibb/archiv/20140219_1830/rechtsberatung_in_marzahn
DTSTAMP:20140406T234534
DESCRIPTION:Viele Jugendliche sitzen in der Schuldenfalle – durch Handyverträge oder Bestellungen auf Pump im Internet. Doch guter Rat durch einen Anwalt ist teuer. Die wenigsten Jugendlichen können sich den leisten. Und schon gar nicht in Marzahn. Dort sitzt das Geld nur selten locker. Deshalb bietet der Berliner Anwaltsverein für Jugendliche eine kostenlose Rechtsberatung an.\n
SUMMARY:Beratung vom Anwalt - kostenlos?
END:VEVENT
END:VCALENDAR
