BEGIN:VCALENDAR
X-WR-TIMEZONE:Europe/Berlin
X-WR-CALNAME:rbb-Kalender
VERSION:2.0
METHOD:PUBLISH
CALSCALE:GREGORIAN
PRODID:rbb-CMS DAY
BEGIN:VEVENT
CLASS:PUBLIC
URL:http://www.rbb-online.de/content/rbb/rbb/zibb/archiv/20140219_1830/streit_um_mohrenstrae.html
DTEND:20140219T192500
DTSTART:20140219T183000
UID:/content/rbb/rbb/zibb/archiv/20140219_1830/streit_um_mohrenstrae
DTSTAMP:20140406T234525
DESCRIPTION:In Berlin gibt es Streit um die Mohrenstraße. Die PDS Mitte stellte im Bezirksparlament den Antrag, die Straße umzubenennen. Ein Sprecher des Integrationsbeauftragten findet das Ansinnen "politisch überkorrekt". Niemand habe sich bisher bei ihm über den Namen beschwert. Aus PDS-Kreisen verlautete, man könne die Straße nach Nelson Mandela benennen.\n\n\n
SUMMARY:Aufruhr über "Mohrenstraße"
END:VEVENT
END:VCALENDAR
