BEGIN:VCALENDAR
X-WR-TIMEZONE:Europe/Berlin
X-WR-CALNAME:rbb-Kalender
VERSION:2.0
METHOD:PUBLISH
CALSCALE:GREGORIAN
PRODID:rbb-CMS DAY
BEGIN:VEVENT
CLASS:PUBLIC
URL:http://www.rbb-online.de/content/rbb/rbb/zibb/archiv/20140221_1830/meer.html
DTEND:20140221T192500
DTSTART:20140221T183000
UID:/content/rbb/rbb/zibb/archiv/20140221_1830/meer
DTSTAMP:20140406T215249
DESCRIPTION:Im Ring-Center hat man die Ostsee nach Berlin geholt - in Form der Ausstellung "meer erleben". Hier kann man Krabben streicheln, Aale vom Mini-Tauchroboter aus beobachten und überhaupt dem Meergetier schrecklich nah kommen.\n
SUMMARY:Meeresausstellung in Berlin 
END:VEVENT
END:VCALENDAR
