BEGIN:VCALENDAR
X-WR-TIMEZONE:Europe/Berlin
X-WR-CALNAME:rbb-Kalender
VERSION:2.0
METHOD:PUBLISH
CALSCALE:GREGORIAN
PRODID:rbb-CMS DAY
BEGIN:VEVENT
CLASS:PUBLIC
URL:http://www.rbb-online.de/content/rbb/rbb/zibb/archiv/20140221_1830/schuhmesse.html
DTEND:20140221T192500
DTSTART:20140221T183000
UID:/content/rbb/rbb/zibb/archiv/20140221_1830/schuhmesse
DTSTAMP:20140406T215301
DESCRIPTION:Die Messe "What about Shoes" gibt es zum ersten Mal in Berlin. Vor allem die jungen Schuh-Designer sollen präsentiert und unterstützt werden. Seit Freitag gibt es im Postbahnhof viel zu entdecken zu neuen Trends, die uns im Frühjahr erwarten.\n
SUMMARY:Erste Schuhmesse in Berlin
END:VEVENT
END:VCALENDAR
