BEGIN:VCALENDAR
X-WR-TIMEZONE:Europe/Berlin
X-WR-CALNAME:rbb-Kalender
VERSION:2.0
METHOD:PUBLISH
CALSCALE:GREGORIAN
PRODID:rbb-CMS DAY
BEGIN:VEVENT
CLASS:PUBLIC
URL:http://www.rbb-online.de/content/rbb/rbb/zibb/archiv/20140224_1830/hiphop-nachwuchs-aus-bad-belzig.html
DTEND:20140224T192500
DTSTART:20140224T183000
UID:/content/rbb/rbb/zibb/archiv/20140224_1830/hiphop-nachwuchs-aus-bad-belzig
DTSTAMP:20140406T225028
DESCRIPTION:Tilo Miersch aus Bad Belzig ist ein ziemlich cooler Typ. Der 31-Jährige ist Break-Dancer und HipHopper und trainiert im Fläming Jugendliche in beiden Tanzstilen. zibb hat ihn bei seiner Arbeit besucht und sich zeigen lassen, wie lebendig die HipHop-Kultur in Bad Belzig ist.\n\n\n
SUMMARY:HipHop-Nachwuchs aus Bad Belzig
END:VEVENT
END:VCALENDAR
