BEGIN:VCALENDAR
X-WR-TIMEZONE:Europe/Berlin
X-WR-CALNAME:rbb-Kalender
VERSION:2.0
METHOD:PUBLISH
CALSCALE:GREGORIAN
PRODID:rbb-CMS DAY
BEGIN:VEVENT
CLASS:PUBLIC
URL:http://www.rbb-online.de/content/rbb/rbb/zibb/archiv/20140225_1830/business-kick-im-zollernhof.html
DTEND:20140225T192500
DTSTART:20140225T183000
UID:/content/rbb/rbb/zibb/archiv/20140225_1830/business-kick-im-zollernhof
DTSTAMP:20140406T231708
DESCRIPTION:Beim dritten Business Kick treten 32 Teams aus fünf bis acht Tischfußballbegeisterten - darunter mindestens eine Frau und bitte alle in Teamtrikot - beim dritten Business Kick gegeneinander an. zibb ist live vor Ort und fragt nach, wie die Chancen für die Teams stehen.\n
SUMMARY:"Business Kick" im Zollernhof
END:VEVENT
END:VCALENDAR
