BEGIN:VCALENDAR
X-WR-TIMEZONE:Europe/Berlin
X-WR-CALNAME:rbb-Kalender
VERSION:2.0
METHOD:PUBLISH
CALSCALE:GREGORIAN
PRODID:rbb-CMS DAY
BEGIN:VEVENT
CLASS:PUBLIC
URL:http://www.rbb-online.de/content/rbb/rbb/zibb/archiv/20140225_1830/junge-frau-ueberfaellt-bankkundin.html
DTEND:20140225T192500
DTSTART:20140225T183000
UID:/content/rbb/rbb/zibb/archiv/20140225_1830/junge-frau-ueberfaellt-bankkundin
DTSTAMP:20140406T231612
DESCRIPTION:Wir alle machen es regelmäßig: Bargeld bei der Bank abholen. Meist ganz unkompliziert, am Geldautomaten. Und wir sind hoffentlich vorsichtig und umsichtig beim eingeben der PIN-Nummer - das kennt man ja, dass da Unheil drohen kann. Doch was tun, wenn die Gefahr ganz unvermittelt und brutal von einer anderen Seite droht? \n\n\n
SUMMARY:Junge Frau überfällt Bankkundin
END:VEVENT
END:VCALENDAR
