BEGIN:VCALENDAR
X-WR-TIMEZONE:Europe/Berlin
X-WR-CALNAME:rbb-Kalender
VERSION:2.0
METHOD:PUBLISH
CALSCALE:GREGORIAN
PRODID:rbb-CMS DAY
BEGIN:VEVENT
CLASS:PUBLIC
URL:http://www.rbb-online.de/content/rbb/rbb/zibb/archiv/20140226_1830/cafe-ohne-aussicht-im-theater-am-kurfuerstendamm.html
DTEND:20140226T192500
DTSTART:20140226T183000
UID:/content/rbb/rbb/zibb/archiv/20140226_1830/cafe-ohne-aussicht-im-theater-am-kurfuerstendamm
DTSTAMP:20140406T233302
DESCRIPTION:Es ist eine Comedian Harmonists-Geschichte von heute, mit den "Berlin Comedian Harmonists", die aus der Erfolgsproduktion "Veronika, der Lenz ist da" eine musikalische Komödie gemacht haben. Dabei geht es es um die Jagd nach dem Erfolg, antidepressiven Streuselkuchen und - natürlich - um den Sinn des Lebens.\n\n\n
SUMMARY:"Café ohne Aussicht" im Theater am Kurfürstendamm
END:VEVENT
END:VCALENDAR
