BEGIN:VCALENDAR
X-WR-TIMEZONE:Europe/Berlin
X-WR-CALNAME:rbb-Kalender
VERSION:2.0
METHOD:PUBLISH
CALSCALE:GREGORIAN
PRODID:rbb-CMS DAY
BEGIN:VEVENT
CLASS:PUBLIC
URL:http://www.rbb-online.de/content/rbb/rbb/zibb/archiv/20140226_1830/maerchentanten.html
DTEND:20140226T192500
DTSTART:20140226T183000
UID:/content/rbb/rbb/zibb/archiv/20140226_1830/maerchentanten
DTSTAMP:20140406T233357
DESCRIPTION:Es waren einmal drei Frauen: Großmutter, Mutter und Tochter. Die drei waren verbunden durch eine innige Liebe zu Büchern und zum Erzählen von Märchen. zibb hat die drei Damen getroffen und sich von ihnen ihr märchenhaftes Tun erklären lassen.\n\n\n
SUMMARY:Die Märchentanten
END:VEVENT
END:VCALENDAR
