BEGIN:VCALENDAR
X-WR-TIMEZONE:Europe/Berlin
X-WR-CALNAME:rbb-Kalender
VERSION:2.0
METHOD:PUBLISH
CALSCALE:GREGORIAN
PRODID:rbb-CMS DAY
BEGIN:VEVENT
CLASS:PUBLIC
URL:http://www.rbb-online.de/content/rbb/rbb/zibb/archiv/20140227_1830/die-tegeler-markthalle.html
DTEND:20140227T192500
DTSTART:20140227T183000
UID:/content/rbb/rbb/zibb/archiv/20140227_1830/die-tegeler-markthalle
DTSTAMP:20140406T234421
DESCRIPTION:Sie ist keine historische Halle, aber sie hat eine interessante Geschichte, denn sie ist in vierter Generation in Familienhand.\n\n\n
SUMMARY:Die Tegeler Markthalle
END:VEVENT
END:VCALENDAR
