BEGIN:VCALENDAR
X-WR-TIMEZONE:Europe/Berlin
X-WR-CALNAME:rbb-Kalender
VERSION:2.0
METHOD:PUBLISH
CALSCALE:GREGORIAN
PRODID:rbb-CMS DAY
BEGIN:VEVENT
CLASS:PUBLIC
URL:http://www.rbb-online.de/content/rbb/rbb/zibb/archiv/20140227_1830/geldtransporter-in-berlin-ueberfallen.html
DTEND:20140227T192500
DTSTART:20140227T183000
UID:/content/rbb/rbb/zibb/archiv/20140227_1830/geldtransporter-in-berlin-ueberfallen
DTSTAMP:20140406T234444
DESCRIPTION:Was genau ist passiert bei dem Überfall auf einen Geldtransporter gestern abend? Die Polizei hat viele Rätsel zu lösen. \n\n\n
SUMMARY:Rätselhafter Raub in Steglitz
END:VEVENT
END:VCALENDAR
