BEGIN:VCALENDAR
X-WR-TIMEZONE:Europe/Berlin
X-WR-CALNAME:rbb-Kalender
VERSION:2.0
METHOD:PUBLISH
CALSCALE:GREGORIAN
PRODID:rbb-CMS DAY
BEGIN:VEVENT
CLASS:PUBLIC
URL:http://www.rbb-online.de/content/rbb/rbb/zibb/archiv/20140227_1830/weiberfastnacht-auf-dem-narrenschiff.html
DTEND:20140227T192500
DTSTART:20140227T183000
UID:/content/rbb/rbb/zibb/archiv/20140227_1830/weiberfastnacht-auf-dem-narrenschiff
DTSTAMP:20140406T234434
DESCRIPTION:Weiberfastnacht feiern die Justizbediensteten der Brandenburger Landesregierung mit ihrem eigenen Verein "Narrenschiff". \n\n\n
SUMMARY:Weiberfastnacht auf dem Narrenschiff
END:VEVENT
END:VCALENDAR
