BEGIN:VCALENDAR
X-WR-TIMEZONE:Europe/Berlin
X-WR-CALNAME:rbb-Kalender
VERSION:2.0
METHOD:PUBLISH
CALSCALE:GREGORIAN
PRODID:rbb-CMS DAY
BEGIN:VEVENT
CLASS:PUBLIC
URL:http://www.rbb-online.de/content/rbb/rbb/zibb/archiv/20140228_1830/gartentraeume-im-februar.html
DTEND:20140228T192500
DTSTART:20140228T183000
UID:/content/rbb/rbb/zibb/archiv/20140228_1830/gartentraeume-im-februar
DTSTAMP:20140406T215625
DESCRIPTION:Träumen Sie nicht auch schon von ihrem Garten? Jetzt können Sie sich in Berlin inspirieren lassen.\n\n\n
SUMMARY:Gartenträume im Februar
END:VEVENT
END:VCALENDAR
