BEGIN:VCALENDAR
X-WR-TIMEZONE:Europe/Berlin
X-WR-CALNAME:rbb-Kalender
VERSION:2.0
METHOD:PUBLISH
CALSCALE:GREGORIAN
PRODID:rbb-CMS DAY
BEGIN:VEVENT
CLASS:PUBLIC
URL:http://www.rbb-online.de/content/rbb/rbb/zibb/archiv/20140303_1830/lieblingsstueck-holzrelief.html
DTEND:20140303T192500
DTSTART:20140303T183000
UID:/content/rbb/rbb/zibb/archiv/20140303_1830/lieblingsstueck-holzrelief
DTSTAMP:20140406T224325
DESCRIPTION:Es ist eine abenteuerliche Mischung aus skurrilen Merkwürdigkeiten. Und fast alles hat Axel Tönnies gebastelt, umgestaltet oder selbst gebaut. Der ehemalige Maler und Tapezierer kann einfach nichts so lassen, wie es ist.\n\n\n
SUMMARY:Lieblingsstück Holzrelief
END:VEVENT
END:VCALENDAR
