BEGIN:VCALENDAR
X-WR-TIMEZONE:Europe/Berlin
X-WR-CALNAME:rbb-Kalender
VERSION:2.0
METHOD:PUBLISH
CALSCALE:GREGORIAN
PRODID:rbb-CMS DAY
BEGIN:VEVENT
CLASS:PUBLIC
URL:http://www.rbb-online.de/content/rbb/rbb/zibb/archiv/20140303_1830/neues-fantasy-nachwuchstalent.html
DTEND:20140303T192500
DTSTART:20140303T183000
UID:/content/rbb/rbb/zibb/archiv/20140303_1830/neues-fantasy-nachwuchstalent
DTSTAMP:20140406T224343
DESCRIPTION:Die 17-jährige Henriette Reinke aus Wünsdorf hat ihre Sommerferien in Südtirol dazu genutzt, ein Buch zu schreiben. Es soll der Auftakt zu einer Trilogie werden. Einen Verlag hat die Schülerin bereits gefunden. Jetzt hofft die Nachwuchs-Autorin auf genügend Leser.\n
SUMMARY:Neues Fantasy-Nachwuchstalent
END:VEVENT
END:VCALENDAR
