BEGIN:VCALENDAR
X-WR-TIMEZONE:Europe/Berlin
X-WR-CALNAME:rbb-Kalender
VERSION:2.0
METHOD:PUBLISH
CALSCALE:GREGORIAN
PRODID:rbb-CMS DAY
BEGIN:VEVENT
CLASS:PUBLIC
URL:http://www.rbb-online.de/content/rbb/rbb/zibb/archiv/20140304_1830/bob-fahrer-manuel-machata.html
DTEND:20140304T192500
DTSTART:20140304T183000
UID:/content/rbb/rbb/zibb/archiv/20140304_1830/bob-fahrer-manuel-machata
DTSTAMP:20140407T003816
DESCRIPTION:In der Kufen-Affäre um Manuel Machata gerät der Bob- und Schlittenverband für Deutschland (BSD) mehr und mehr ins Schlingern. (Das Video zum Beitrag liegt aus rechtlichen Gründen leider nicht vor.)\n\n\n\n\n
SUMMARY:Strafe für Bob-Fahrer Manuel Machata umstritten
END:VEVENT
END:VCALENDAR
