BEGIN:VCALENDAR
X-WR-TIMEZONE:Europe/Berlin
X-WR-CALNAME:rbb-Kalender
VERSION:2.0
METHOD:PUBLISH
CALSCALE:GREGORIAN
PRODID:rbb-CMS DAY
BEGIN:VEVENT
CLASS:PUBLIC
URL:http://www.rbb-online.de/content/rbb/rbb/zibb/archiv/20140304_1830/kinder-forschen-im-helleum.html
DTEND:20140304T192500
DTSTART:20140304T183000
UID:/content/rbb/rbb/zibb/archiv/20140304_1830/kinder-forschen-im-helleum
DTSTAMP:20140407T003835
DESCRIPTION:Kinder wollen forschen und entdecken, allerdings  nicht immer unbedingt das, was gerade auf dem Lehrplan steht.\n\n\n
SUMMARY:Kinder forschen im "Helleum"
END:VEVENT
END:VCALENDAR
