BEGIN:VCALENDAR
X-WR-TIMEZONE:Europe/Berlin
X-WR-CALNAME:rbb-Kalender
VERSION:2.0
METHOD:PUBLISH
CALSCALE:GREGORIAN
PRODID:rbb-CMS DAY
BEGIN:VEVENT
CLASS:PUBLIC
URL:http://www.rbb-online.de/content/rbb/rbb/zibb/archiv/20140305_1830/aus-bahnhofstrasse-wird-oehna.html
DTEND:20140305T192500
DTSTART:20140305T183000
UID:/content/rbb/rbb/zibb/archiv/20140305_1830/aus-bahnhofstrasse-wird-oehna
DTSTAMP:20140406T230604
DESCRIPTION:Die Bewohner der Bahnhofstraße in Oehna stehen vor einem großen Problem. Ihre Straße wurde vor kurzem in "Oehna" umbenannt, weil ihr Ort zu klein für eine eigene Bahnhofstraße ist. Damit wohnen deren Bewohner jetzt in der Oehna in Oehna.\n\n\n
SUMMARY:Aus Bahnhofstraße wird Oehna
END:VEVENT
END:VCALENDAR
