BEGIN:VCALENDAR
X-WR-TIMEZONE:Europe/Berlin
X-WR-CALNAME:rbb-Kalender
VERSION:2.0
METHOD:PUBLISH
CALSCALE:GREGORIAN
PRODID:rbb-CMS DAY
BEGIN:VEVENT
CLASS:PUBLIC
URL:http://www.rbb-online.de/content/rbb/rbb/zibb/archiv/20140305_1830/tango-trotz-parkinson.html
DTEND:20140305T192500
DTSTART:20140305T183000
UID:/content/rbb/rbb/zibb/archiv/20140305_1830/tango-trotz-parkinson
DTSTAMP:20140406T230613
DESCRIPTION:Jede Liebe hat ein Geheimnis: Sabine und Michael Beer aus Berlin-Friedenau kennen sich seit ihrer Teenagerzeit und tanzen zusammen Tango. Und das, obwohl Michael Beer seit seinem 50. Lebensjahr Parkinson hat.\n\n\n
SUMMARY:Tango trotz Parkinson
END:VEVENT
END:VCALENDAR
