BEGIN:VCALENDAR
X-WR-TIMEZONE:Europe/Berlin
X-WR-CALNAME:rbb-Kalender
VERSION:2.0
METHOD:PUBLISH
CALSCALE:GREGORIAN
PRODID:rbb-CMS DAY
BEGIN:VEVENT
CLASS:PUBLIC
URL:http://www.rbb-online.de/content/rbb/rbb/zibb/archiv/20140305_1830/wenn-speiseroehre-und-magen-streiken.html
DTEND:20140305T192500
DTSTART:20140305T183000
UID:/content/rbb/rbb/zibb/archiv/20140305_1830/wenn-speiseroehre-und-magen-streiken
DTSTAMP:20140406T230638
DESCRIPTION:Wenn es im Bauch drückt oder grummelt ist die Diagnose selten eindeutig. Magen- und Darmspiegelung, Kernspin oder CT sollen bei der Suche nach der Ursache helfen, bleiben jedoch allzu oft ohne Ergebnisse. Mehr zum Thema um 20:15 Uhr in der rbb Praxis.\n\n\n
SUMMARY:Wenn Speiseröhre und Magen streiken
END:VEVENT
END:VCALENDAR
