BEGIN:VCALENDAR
X-WR-TIMEZONE:Europe/Berlin
X-WR-CALNAME:rbb-Kalender
VERSION:2.0
METHOD:PUBLISH
CALSCALE:GREGORIAN
PRODID:rbb-CMS DAY
BEGIN:VEVENT
CLASS:PUBLIC
URL:http://www.rbb-online.de/content/rbb/rbb/zibb/archiv/20140306_1830/ein-flippiger-abend.html
DTEND:20140306T192500
DTSTART:20140306T183000
UID:/content/rbb/rbb/zibb/archiv/20140306_1830/ein-flippiger-abend
DTSTAMP:20140407T002115
DESCRIPTION:Flippige Abende mit viel Augenzwinkern findet ab Donnerstag im Berliner Chamäleon-Theater statt. Die "Flip FabriQue", junge Artisten aus Kanada, zeigen mit Tempo, unglaublicher Schnelligkeit und gekonnter Leichtigkeit atemberaubende Akrobatik und neue Artistik.\n\n\n
SUMMARY:Ein flippiger Abend
END:VEVENT
END:VCALENDAR
